BEGIN:VCALENDAR
VERSION:2.0
PRODID:https://www.gorki.de
BEGIN:VEVENT
UID:69eab8b3c4ddb
DTSTART:20260425T183000Z
SEQUENCE:0
TRANSP:OPAQUE
DTEND:20260425T200000Z
URL:https://www.gorki.de/en/der-untertan/2026-04-25-2000
SUMMARY:Derniere: Der Untertan
CLASS:PUBLIC
DTSTAMP:20260424T022627Z
END:VEVENT
END:VCALENDAR