BEGIN:VCALENDAR
VERSION:2.0
PRODID:https://www.gorki.de
BEGIN:VEVENT
UID:69e5ecb7d6057
DTSTART:20260307T190000Z
SEQUENCE:0
TRANSP:OPAQUE
DTEND:20260307T202000Z
URL:https://www.gorki.de/en/karabakh-memory/2026-03-07-2000
SUMMARY:Gastspiel: Karabakh Memory
CLASS:PUBLIC
DTSTAMP:20260420T110703Z
END:VEVENT
END:VCALENDAR