BEGIN:VCALENDAR
VERSION:2.0
PRODID:https://www.gorki.de
BEGIN:VEVENT
UID:69e787b9a25e4
DTSTART:20260508T130000Z
SEQUENCE:0
TRANSP:OPAQUE
DTEND:20260508T160000Z
URL:https://www.gorki.de/de/7-berliner-herbstsalon-yaeimagine-ask-mark-ve-o
 lum/2026-05-08-1500
SUMMARY:Opening: Aşk\, Mark ve Ölüm
CLASS:PUBLIC
DTSTAMP:20260421T162041Z
END:VEVENT
END:VCALENDAR